BEGIN:VCALENDAR
VERSION:2.0
PRODID:-//Dunham Cellars - ECPv6.15.13.1//NONSGML v1.0//EN
CALSCALE:GREGORIAN
METHOD:PUBLISH
X-WR-CALNAME:Dunham Cellars
X-ORIGINAL-URL:https://dunhamcellars.com
X-WR-CALDESC:Events for Dunham Cellars
REFRESH-INTERVAL;VALUE=DURATION:PT1H
X-Robots-Tag:noindex
X-PUBLISHED-TTL:PT1H
BEGIN:VTIMEZONE
TZID:UTC
BEGIN:STANDARD
TZOFFSETFROM:+0000
TZOFFSETTO:+0000
TZNAME:UTC
DTSTART:20250101T000000
END:STANDARD
END:VTIMEZONE
BEGIN:VEVENT
DTSTART;TZID=UTC:20260501T110000
DTEND;TZID=UTC:20260503T160000
DTSTAMP:20260416T050140
CREATED:20260112T184234Z
LAST-MODIFIED:20260210T231550Z
UID:4133-1777633200-1777824000@dunhamcellars.com
SUMMARY:Spring Release Weekend
DESCRIPTION:Spring Release Weekend is one of the biggest events in the Walla Walla Valley and offers an excellent opportunity to connect with the Dunham Cellars family. Sample our new wine releases and other favorites while strolling through our historic Hangar Lounge and beautiful courtyard. Indulge in our famous Parmesan pasta wheel\, available Friday and Saturday while supplies last! \nClick below to make your reservation! \n\n  \n$20 tasting fee\, refundable with a $50 wine purchase. Tasting fees are always\nincluded in your Wine Club Membership. \n*Reservations are not required
URL:https://dunhamcellars.com/event/spring-release-weekend/
LOCATION:Dunham Cellars\, 150 E. Boeing Ave.\, Walla Walla\, WA\, 99362\, United States
ATTACH;FMTTYPE=image/png:https://dunhamcellars.com/wp-content/uploads/2026/01/Spring-Release-5.png
ORGANIZER;CN="Dunham Cellars":MAILTO:wine@dunhamcellars.com
END:VEVENT
END:VCALENDAR